BEGIN:VCALENDAR
VERSION:2.0
PRODID:-//Trailhead Ultras - ECPv6.5.0//NONSGML v1.0//EN
CALSCALE:GREGORIAN
METHOD:PUBLISH
X-WR-CALNAME:Trailhead Ultras
X-ORIGINAL-URL:https://trailheadultras.com
X-WR-CALDESC:Events for Trailhead Ultras
REFRESH-INTERVAL;VALUE=DURATION:PT1H
X-Robots-Tag:noindex
X-PUBLISHED-TTL:PT1H
BEGIN:VTIMEZONE
TZID:America/New_York
BEGIN:DAYLIGHT
TZOFFSETFROM:-0500
TZOFFSETTO:-0400
TZNAME:EDT
DTSTART:20240310T070000
END:DAYLIGHT
BEGIN:STANDARD
TZOFFSETFROM:-0400
TZOFFSETTO:-0500
TZNAME:EST
DTSTART:20241103T060000
END:STANDARD
END:VTIMEZONE
BEGIN:VEVENT
DTSTART;TZID=America/New_York:20240107T000000
DTEND;TZID=America/New_York:20240107T235959
DTSTAMP:20260423T155025
CREATED:20231206T210220Z
LAST-MODIFIED:20240110T210509Z
UID:1389-1704585600-1704671999@trailheadultras.com
SUMMARY:Marathon Mania
DESCRIPTION:Marathon\, Half Marathon\, 10k\, 5kResultshttp://results.sporthive.com/events/7149748404745190656
URL:https://trailheadultras.com/event/marathon-mania/
ATTACH;FMTTYPE=image/png:https://trailheadultras.com/wp-content/uploads/race70984-logo.bJXbMM.png
END:VEVENT
END:VCALENDAR